BEGIN:VCALENDAR
VERSION:2.0
PRODID:-//Enlighten - ECPv6.15.17//NONSGML v1.0//EN
CALSCALE:GREGORIAN
METHOD:PUBLISH
X-WR-CALNAME:Enlighten
X-ORIGINAL-URL:https://enlightencom.com
X-WR-CALDESC:Events for Enlighten
REFRESH-INTERVAL;VALUE=DURATION:PT1H
X-Robots-Tag:noindex
X-PUBLISHED-TTL:PT1H
BEGIN:VTIMEZONE
TZID:America/Kentucky/Louisville
BEGIN:DAYLIGHT
TZOFFSETFROM:-0500
TZOFFSETTO:-0400
TZNAME:EDT
DTSTART:20250309T070000
END:DAYLIGHT
BEGIN:STANDARD
TZOFFSETFROM:-0400
TZOFFSETTO:-0500
TZNAME:EST
DTSTART:20251102T060000
END:STANDARD
BEGIN:DAYLIGHT
TZOFFSETFROM:-0500
TZOFFSETTO:-0400
TZNAME:EDT
DTSTART:20260308T070000
END:DAYLIGHT
BEGIN:STANDARD
TZOFFSETFROM:-0400
TZOFFSETTO:-0500
TZNAME:EST
DTSTART:20261101T060000
END:STANDARD
BEGIN:DAYLIGHT
TZOFFSETFROM:-0500
TZOFFSETTO:-0400
TZNAME:EDT
DTSTART:20270314T070000
END:DAYLIGHT
BEGIN:STANDARD
TZOFFSETFROM:-0400
TZOFFSETTO:-0500
TZNAME:EST
DTSTART:20271107T060000
END:STANDARD
END:VTIMEZONE
BEGIN:VEVENT
DTSTART;VALUE=DATE:20260423
DTEND;VALUE=DATE:20260424
DTSTAMP:20260419T205631
CREATED:20260224T184203Z
LAST-MODIFIED:20260224T185023Z
UID:2751-1776902400-1776988799@enlightencom.com
SUMMARY:Dr. Joe Malone D6 Conference April 23\, 2026
DESCRIPTION:April 23\, 2026 D6 Conference \nSexual Integrity Education \nhttps://d6family.com/d6conference/
URL:https://enlightencom.com/event/night-rally-september-20-2026-3-2-2/
CATEGORIES:2026,Joe Malone,Upcoming
ATTACH;FMTTYPE=image/webp:https://enlightencom.com/wp-content/uploads/2024/09/DrJoeMalone.webp
END:VEVENT
BEGIN:VEVENT
DTSTART;VALUE=DATE:20260427
DTEND;VALUE=DATE:20260429
DTSTAMP:20260419T205631
CREATED:20260220T181751Z
LAST-MODIFIED:20260220T181751Z
UID:2737-1777248000-1777420799@enlightencom.com
SUMMARY:School Presentations April 27\, 2026
DESCRIPTION:Pam Stenzel\nSchool presentations.\nEVENT DATE: 27th/ 28th April 2026 \nHOST INFORMATION\nJulie Maupin\nEMAIL: juliemaupin@me.com\nPO Box 711\nGruver\, TX 79040\nTELEPHONE: 806-736-0073
URL:https://enlightencom.com/event/school-presentations-april-27-2026/
CATEGORIES:2026,Pam Stenzel,Upcoming
ATTACH;FMTTYPE=image/jpeg:https://enlightencom.com/wp-content/uploads/2017/02/pamstenzel2025.jpg
END:VEVENT
BEGIN:VEVENT
DTSTART;VALUE=DATE:20260430
DTEND;VALUE=DATE:20260501
DTSTAMP:20260419T205631
CREATED:20260224T184345Z
LAST-MODIFIED:20260224T184345Z
UID:2753-1777507200-1777593599@enlightencom.com
SUMMARY:Dr. Joe Malone Sexual Integrity Leadership Summit April 30\, 2026
DESCRIPTION:April 30\, 2026 Sexual Integrity Leadership Summit \nhttps://sexualintegrityleaders.com/2026-atlanta/ \nSexual Integrity: God’s Glorious Design
URL:https://enlightencom.com/event/night-rally-september-20-2026-3-3/
CATEGORIES:2026,Joe Malone,Upcoming
ATTACH;FMTTYPE=image/webp:https://enlightencom.com/wp-content/uploads/2024/09/DrJoeMalone.webp
END:VEVENT
BEGIN:VEVENT
DTSTART;VALUE=DATE:20260504
DTEND;VALUE=DATE:20260508
DTSTAMP:20260419T205631
CREATED:20260227T162206Z
LAST-MODIFIED:20260227T163248Z
UID:2760-1777852800-1778198399@enlightencom.com
SUMMARY:Pam is Attending NIFLA Leadership Summit Infinite Worth Booth May 4\, 2026
DESCRIPTION:NIFLA  Leadership Summit\nWilliamsburg\, VA   May 4 – 7\, 2026 \nInfinite Worth Booth\nWelcome – NIFLA Leadership Summit
URL:https://enlightencom.com/event/pam-is-attending-bringing-america-back-to-life-march-13-2026-2/
CATEGORIES:2026,Pam Stenzel,Upcoming
ATTACH;FMTTYPE=image/jpeg:https://enlightencom.com/wp-content/uploads/2026/02/NIFLA.jpg
END:VEVENT
BEGIN:VEVENT
DTSTART;VALUE=DATE:20260625
DTEND;VALUE=DATE:20260627
DTSTAMP:20260419T205631
CREATED:20260211T200556Z
LAST-MODIFIED:20260211T200556Z
UID:2729-1782345600-1782518399@enlightencom.com
SUMMARY:Keynote and Workshop June 25\, 2025
DESCRIPTION:EVENT DATE: June 25\, 2026 \nPam Stenzel.\nKeynote and workshop\nEVENT DATE: 25th/ 26th June 2026 \nHOST INFORMATION\nKathy Jerman\nEMAIL: kjerman@heartbeatinternational.org\nDirector of Affiliate Services\nHeartbeat International\n8405 Pulser Place\nColumbus OH 43240\nTELEPHONE: (614) 885-7577 Ext. 137
URL:https://enlightencom.com/event/keynote-and-workshop-june-25-2025/
CATEGORIES:2025,Pam Stenzel,Upcoming
ATTACH;FMTTYPE=image/jpeg:https://enlightencom.com/wp-content/uploads/2017/02/pamstenzel2025.jpg
END:VEVENT
BEGIN:VEVENT
DTSTART;VALUE=DATE:20260625
DTEND;VALUE=DATE:20260627
DTSTAMP:20260419T205631
CREATED:20251107T214605Z
LAST-MODIFIED:20251107T214605Z
UID:2433-1782345600-1782518399@enlightencom.com
SUMMARY:Pam Stenzel - Keynote and workshop
DESCRIPTION:Pam Stenzel\nKeynote and workshop\nEVENT DATE: 25th/ 26th June 2026 \nHOST INFORMATION\nKathy Jerman\nEMAIL: kjerman@heartbeatinternational.org\nDirector of Affiliate Services\nHeartbeat International\n8405 Pulser Place\nColumbus OH 43240\nTELEPHONE: (614) 885-7577 Ext. 137
URL:https://enlightencom.com/event/pam-stenzel-keynote-and-workshop/
CATEGORIES:2026,Pam Stenzel,Upcoming
ATTACH;FMTTYPE=image/jpeg:https://enlightencom.com/wp-content/uploads/2017/02/pamstenzel2025.jpg
END:VEVENT
BEGIN:VEVENT
DTSTART;VALUE=DATE:20260725
DTEND;VALUE=DATE:20260726
DTSTAMP:20260419T205631
CREATED:20260211T200937Z
LAST-MODIFIED:20260220T181917Z
UID:2733-1784937600-1785023999@enlightencom.com
SUMMARY:Pam Stenzel VoxVitea July 25\, 2026
DESCRIPTION:Pam Stenzel\nEVENT DATE: July 25\, 2026 \nHOST INFORMATION \nCatherine Contreras\nPHONE: 213-435-3941\n510 North El Molino Street\nAlhambra CA 91801\nEmail: Catherine@VoxVitea.org
URL:https://enlightencom.com/event/pam-stenzel-voxvitea-july-25-20267/
CATEGORIES:2026,Pam Stenzel,Upcoming
ATTACH;FMTTYPE=image/jpeg:https://enlightencom.com/wp-content/uploads/2017/02/pamstenzel2025.jpg
END:VEVENT
BEGIN:VEVENT
DTSTART;VALUE=DATE:20260818
DTEND;VALUE=DATE:20260822
DTSTAMP:20260419T205631
CREATED:20260227T162403Z
LAST-MODIFIED:20260227T163052Z
UID:2762-1787011200-1787356799@enlightencom.com
SUMMARY:Pam is Attending Care Net Conference BrightCourse Booth August 18\, 2026
DESCRIPTION:Care Net Conference\nHouston\, Texas\nAugust 18 – 21\, 2026\nBrightCourse Booth \nOverview – 2026 Care Net National Conference
URL:https://enlightencom.com/event/pam-is-attending-care-net-conference-brightcourse-booth-august-18-2026/
CATEGORIES:2026,Pam Stenzel,Upcoming
ATTACH;FMTTYPE=image/jpeg:https://enlightencom.com/wp-content/uploads/2026/02/carenet.jpg
END:VEVENT
BEGIN:VEVENT
DTSTART;VALUE=DATE:20260920
DTEND;VALUE=DATE:20260922
DTSTAMP:20260419T205631
CREATED:20260220T182027Z
LAST-MODIFIED:20260220T182027Z
UID:2740-1789862400-1790035199@enlightencom.com
SUMMARY:Night Rally September 20\, 2026
DESCRIPTION:Pam Stenzel\nNight rally 20th September 2026\nBanquet 21st September 2026\nRelate Care Clinic\nGrand Forks ND
URL:https://enlightencom.com/event/night-rally-september-20-2026/
CATEGORIES:2026,Pam Stenzel,Upcoming
ATTACH;FMTTYPE=image/jpeg:https://enlightencom.com/wp-content/uploads/2017/02/pamstenzel2025.jpg
END:VEVENT
END:VCALENDAR